BEGIN:VCALENDAR
VERSION:2.0
PRODID:-//Wagga Wagga Touch Association - ECPv6.15.17.1//NONSGML v1.0//EN
CALSCALE:GREGORIAN
METHOD:PUBLISH
X-WR-CALNAME:Wagga Wagga Touch Association
X-ORIGINAL-URL:https://wagga-wagga.nswtouch.com.au
X-WR-CALDESC:Events for Wagga Wagga Touch Association
REFRESH-INTERVAL;VALUE=DURATION:PT1H
X-Robots-Tag:noindex
X-PUBLISHED-TTL:PT1H
BEGIN:VTIMEZONE
TZID:Australia/Sydney
BEGIN:STANDARD
TZOFFSETFROM:+1100
TZOFFSETTO:+1000
TZNAME:AEST
DTSTART:20190406T160000
END:STANDARD
BEGIN:DAYLIGHT
TZOFFSETFROM:+1000
TZOFFSETTO:+1100
TZNAME:AEDT
DTSTART:20191005T160000
END:DAYLIGHT
BEGIN:STANDARD
TZOFFSETFROM:+1100
TZOFFSETTO:+1000
TZNAME:AEST
DTSTART:20200404T160000
END:STANDARD
BEGIN:DAYLIGHT
TZOFFSETFROM:+1000
TZOFFSETTO:+1100
TZNAME:AEDT
DTSTART:20201003T160000
END:DAYLIGHT
BEGIN:STANDARD
TZOFFSETFROM:+1100
TZOFFSETTO:+1000
TZNAME:AEST
DTSTART:20210403T160000
END:STANDARD
BEGIN:DAYLIGHT
TZOFFSETFROM:+1000
TZOFFSETTO:+1100
TZNAME:AEDT
DTSTART:20211002T160000
END:DAYLIGHT
END:VTIMEZONE
BEGIN:VEVENT
DTSTART;TZID=Australia/Sydney:20200910T183000
DTEND;TZID=Australia/Sydney:20200910T193000
DTSTAMP:20260425T005633
CREATED:20200728T005855Z
LAST-MODIFIED:20200821T053355Z
UID:1542-1599762600-1599766200@wagga-wagga.nswtouch.com.au
SUMMARY:Annual General Meeting
DESCRIPTION:WTA will be holding its AGM at the Jubilee Park Clubhouse. \nAll members welcome. \n01 WTA Board Nomination Form
URL:https://wagga-wagga.nswtouch.com.au/event/annual-general-meeting/
LOCATION:WTA Clubhouse\, Jubilee Park\, Jubilee Park\, Wagga Wagga
ATTACH;FMTTYPE=image/jpeg:https://wagga-wagga.nswtouch.com.au/wp-content/uploads/2020/07/AGM.jpg
ORGANIZER;CN="Wagga Touch Association":MAILTO:contact@waggatouch.com.au
END:VEVENT
END:VCALENDAR