BEGIN:VCALENDAR
VERSION:2.0
PRODID:-//Wagga Wagga Touch Association - ECPv6.15.17.1//NONSGML v1.0//EN
CALSCALE:GREGORIAN
METHOD:PUBLISH
X-WR-CALNAME:Wagga Wagga Touch Association
X-ORIGINAL-URL:https://wagga-wagga.nswtouch.com.au
X-WR-CALDESC:Events for Wagga Wagga Touch Association
REFRESH-INTERVAL;VALUE=DURATION:PT1H
X-Robots-Tag:noindex
X-PUBLISHED-TTL:PT1H
BEGIN:VTIMEZONE
TZID:Australia/Sydney
BEGIN:STANDARD
TZOFFSETFROM:+1100
TZOFFSETTO:+1000
TZNAME:AEST
DTSTART:20190406T160000
END:STANDARD
BEGIN:DAYLIGHT
TZOFFSETFROM:+1000
TZOFFSETTO:+1100
TZNAME:AEDT
DTSTART:20191005T160000
END:DAYLIGHT
BEGIN:STANDARD
TZOFFSETFROM:+1100
TZOFFSETTO:+1000
TZNAME:AEST
DTSTART:20200404T160000
END:STANDARD
BEGIN:DAYLIGHT
TZOFFSETFROM:+1000
TZOFFSETTO:+1100
TZNAME:AEDT
DTSTART:20201003T160000
END:DAYLIGHT
BEGIN:STANDARD
TZOFFSETFROM:+1100
TZOFFSETTO:+1000
TZNAME:AEST
DTSTART:20210403T160000
END:STANDARD
BEGIN:DAYLIGHT
TZOFFSETFROM:+1000
TZOFFSETTO:+1100
TZNAME:AEDT
DTSTART:20211002T160000
END:DAYLIGHT
END:VTIMEZONE
BEGIN:VEVENT
DTSTART;TZID=Australia/Sydney:20201017T080000
DTEND;TZID=Australia/Sydney:20201018T170000
DTSTAMP:20260425T011428
CREATED:20200717T043300Z
LAST-MODIFIED:20200717T043300Z
UID:1455-1602921600-1603040400@wagga-wagga.nswtouch.com.au
SUMMARY:Country Championships
DESCRIPTION:
URL:https://wagga-wagga.nswtouch.com.au/event/country-championships/
ATTACH;FMTTYPE=image/jpeg:https://wagga-wagga.nswtouch.com.au/wp-content/uploads/2020/07/Country-Champs.jpg
END:VEVENT
END:VCALENDAR